BEGIN:VCALENDAR
VERSION:2.0
PRODID:-//Schmidt Vocal Arts - ECPv6.15.20//NONSGML v1.0//EN
CALSCALE:GREGORIAN
METHOD:PUBLISH
X-WR-CALNAME:Schmidt Vocal Arts
X-ORIGINAL-URL:https://schmidtvocalarts.org
X-WR-CALDESC:Events for Schmidt Vocal Arts
REFRESH-INTERVAL;VALUE=DURATION:PT1H
X-Robots-Tag:noindex
X-PUBLISHED-TTL:PT1H
BEGIN:VTIMEZONE
TZID:America/New_York
BEGIN:DAYLIGHT
TZOFFSETFROM:-0500
TZOFFSETTO:-0400
TZNAME:EDT
DTSTART:20190310T070000
END:DAYLIGHT
BEGIN:STANDARD
TZOFFSETFROM:-0400
TZOFFSETTO:-0500
TZNAME:EST
DTSTART:20191103T060000
END:STANDARD
BEGIN:DAYLIGHT
TZOFFSETFROM:-0500
TZOFFSETTO:-0400
TZNAME:EDT
DTSTART:20200308T070000
END:DAYLIGHT
BEGIN:STANDARD
TZOFFSETFROM:-0400
TZOFFSETTO:-0500
TZNAME:EST
DTSTART:20201101T060000
END:STANDARD
BEGIN:DAYLIGHT
TZOFFSETFROM:-0500
TZOFFSETTO:-0400
TZNAME:EDT
DTSTART:20210314T070000
END:DAYLIGHT
BEGIN:STANDARD
TZOFFSETFROM:-0400
TZOFFSETTO:-0500
TZNAME:EST
DTSTART:20211107T060000
END:STANDARD
END:VTIMEZONE
BEGIN:VEVENT
DTSTART;TZID=America/New_York:20200418T083000
DTEND;TZID=America/New_York:20200418T180000
DTSTAMP:20260420T110913
CREATED:20190724T220850Z
LAST-MODIFIED:20190725T184550Z
UID:3054-1587198600-1587232800@schmidtvocalarts.org
SUMMARY:Schmidt Vocal Competition - Minnesota
DESCRIPTION:Registration Deadline: April 4\, 2020
URL:https://schmidtvocalarts.org/event/schmidt-vocal-competition-minnesota/
LOCATION:University of Minnesota\, Minneapolis\, MN
CATEGORIES:Schmidt Vocal Competition,Spring Competition
END:VEVENT
END:VCALENDAR