BEGIN:VCALENDAR
VERSION:2.0
PRODID:-//Schmidt Vocal Arts - ECPv6.15.20//NONSGML v1.0//EN
CALSCALE:GREGORIAN
METHOD:PUBLISH
X-WR-CALNAME:Schmidt Vocal Arts
X-ORIGINAL-URL:https://schmidtvocalarts.org
X-WR-CALDESC:Events for Schmidt Vocal Arts
REFRESH-INTERVAL;VALUE=DURATION:PT1H
X-Robots-Tag:noindex
X-PUBLISHED-TTL:PT1H
BEGIN:VTIMEZONE
TZID:America/New_York
BEGIN:DAYLIGHT
TZOFFSETFROM:-0500
TZOFFSETTO:-0400
TZNAME:EDT
DTSTART:20190310T070000
END:DAYLIGHT
BEGIN:STANDARD
TZOFFSETFROM:-0400
TZOFFSETTO:-0500
TZNAME:EST
DTSTART:20191103T060000
END:STANDARD
BEGIN:DAYLIGHT
TZOFFSETFROM:-0500
TZOFFSETTO:-0400
TZNAME:EDT
DTSTART:20200308T070000
END:DAYLIGHT
BEGIN:STANDARD
TZOFFSETFROM:-0400
TZOFFSETTO:-0500
TZNAME:EST
DTSTART:20201101T060000
END:STANDARD
BEGIN:DAYLIGHT
TZOFFSETFROM:-0500
TZOFFSETTO:-0400
TZNAME:EDT
DTSTART:20210314T070000
END:DAYLIGHT
BEGIN:STANDARD
TZOFFSETFROM:-0400
TZOFFSETTO:-0500
TZNAME:EST
DTSTART:20211107T060000
END:STANDARD
END:VTIMEZONE
BEGIN:VEVENT
DTSTART;TZID=America/New_York:20200314T083000
DTEND;TZID=America/New_York:20200314T180000
DTSTAMP:20260420T144809
CREATED:20190724T220038Z
LAST-MODIFIED:20200313T181227Z
UID:3035-1584174600-1584208800@schmidtvocalarts.org
SUMMARY:Schmidt Vocal Competition - Pennsylvania - CANCELED/POSTPONED
DESCRIPTION:View information about event cancelations here: Schedule Changes Due to COVID-19
URL:https://schmidtvocalarts.org/event/schmidt-vocal-competition-pennsylvania/
LOCATION:Temple University\, Philadelphia\, PA
CATEGORIES:Schmidt Vocal Competition,Spring Competition
END:VEVENT
BEGIN:VEVENT
DTSTART;TZID=America/New_York:20200314T083000
DTEND;TZID=America/New_York:20200314T180000
DTSTAMP:20260420T144809
CREATED:20190724T220149Z
LAST-MODIFIED:20200313T181048Z
UID:3038-1584174600-1584208800@schmidtvocalarts.org
SUMMARY:Schmidt Vocal Competition - North Carolina - CANCELED/POSTPONED
DESCRIPTION:View information about event cancellations here:  Schedule Changes Due to COVID-19
URL:https://schmidtvocalarts.org/event/schmidt-vocal-competition-north-carolina/
LOCATION:North Carolina School of the Arts\, Winston-Salem\, NC
CATEGORIES:Schmidt Vocal Competition,Spring Competition
END:VEVENT
BEGIN:VEVENT
DTSTART;TZID=America/New_York:20200314T083000
DTEND;TZID=America/New_York:20200314T180000
DTSTAMP:20260420T144809
CREATED:20190724T220309Z
LAST-MODIFIED:20190725T184517Z
UID:3041-1584174600-1584208800@schmidtvocalarts.org
SUMMARY:Schmidt Vocal Competition - Nevada
DESCRIPTION:Registration Deadline: February 29\, 2020
URL:https://schmidtvocalarts.org/event/schmidt-vocal-competition-nevada/
LOCATION:University of Nevada – Las Vegas\, Las Vegas\, NV
CATEGORIES:Schmidt Vocal Competition,Spring Competition
END:VEVENT
END:VCALENDAR